BEGIN:VCALENDAR
VERSION:2.0
PRODID:-//wp-events-plugin.com//7.2.3.1//EN
TZID:Europe/Berlin
X-WR-TIMEZONE:Europe/Berlin
BEGIN:VEVENT
UID:28@lawenaw.de
DTSTART;TZID=Europe/Berlin:20260529T191500
DTEND;TZID=Europe/Berlin:20260529T204500
DTSTAMP:20260417T094422Z
URL:https://lawenaw.de/veranstaltungen/distillery-tour-mit-tasting-10
SUMMARY:Distillery-Tour mit Tasting
DESCRIPTION:Diese Tour ist für alle Interessierten gedacht: Wie funktionie
 rt unsere Whisky-Distillery im reinen Handbetrieb auf traditionelle Weise?
  Welche Arbeitsschritte sind nötig vom Gerstenkorn bis in die Flasche? Wa
 s ist das Besondere an unseren handgefertigten Spirituosen? Wie stellen wi
 r unseren Whisky\, Gin und Liköre her?\n\nWir beginnen mit einem Blick in
  die aktive Produktion und schauen uns alle Stationen an: Mälzen der regi
 onalen Gerste im "Floormalting-Verfahren"\, Maischen\, Vergären\, Rauhbra
 nd\, Feinbrand\, Fassabfüllung. Neben viel Wissenswerten zum "Lebenswasse
 r" gibt es auch ein paar Geschichten zur Historie des Gebäudes und zum Or
 t Lauenau - dem Namensgeber unser Lawenaw Distillery. Natürlich gibt es d
 abei eine Kostprobe unseres "New Make Spirit" also dem frisch produzierten
  Herztück des Brandes\, der nach mindestens drei Jahren Lagerung zum Whis
 ky wird. Anschließend werden Kostproben unseres Gins und unserer Liköre 
 angeboten und auch eine kleine Probe eines Barrel Aged Malt Spirit darf ni
 cht fehlen - ein Vorgeschmack auf unseren späteren Whisky.\n\nTeilnehmen 
 können an dieser Tour nur Erwachsene - die maximale Teilnehmerzahl beträ
 gt 20 Personen.\n\nDie Gebühr von 25\,- Euro pro Person (inkl. MwSt.) bei
 nhaltet folgende Leistungen:\n\n 	geführte\, exklusive Tour durch die Pro
 duktion "vom Korn bis in die Flasche"  mit detaillierten Infos\n 	Verkost
 ung unserer eigenen Produkte\, inklusive des "New Make Malt Spirit" (Vorst
 ufe des Whiskys) und eines "Barrel Aged Malt Spirits"\n 	Dauer insgesamt e
 twa 1\,5 Stunden\n\nBei uns ist Barzahlung und auch Kartenzahlung möglich
 .\n\nWir freuen uns auf begeisterte Besucher! Für Gruppen sind auch exklu
 sive Touren in "geschlossener Runde" ab 12 Personen möglich. Wir freuen u
 ns hier auf eine Kontaktaufnahme.
ATTACH;FMTTYPE=image/jpeg:https://lawenaw.de/wp-content/uploads/2025/03/DS
 C05949-Verbessert-RR.jpg
LOCATION:Lawenaw Distillery\, Am Amtsgraben 1\, 31867 Lauenau\, Deutschland
X-APPLE-STRUCTURED-LOCATION;VALUE=URI;X-ADDRESS=Am Amtsgraben 1\, 31867 Lau
 enau\, Deutschland;X-APPLE-RADIUS=100;X-TITLE=Lawenaw Distillery:geo:0,0
END:VEVENT
BEGIN:VTIMEZONE
TZID:Europe/Berlin
X-LIC-LOCATION:Europe/Berlin
BEGIN:DAYLIGHT
DTSTART:20260329T030000
TZOFFSETFROM:+0100
TZOFFSETTO:+0200
TZNAME:CEST
END:DAYLIGHT
END:VTIMEZONE
END:VCALENDAR